{
  "title": "Google Maps Compatible for the World",
  "id": "WebMercatorQuad",
  "uri": "http://www.opengis.net/def/tilematrixset/OGC/1.0/WebMercatorQuad",
  "orderedAxes": [
    "X",
    "Y"
  ],
  "crs": "http://www.opengis.net/def/crs/EPSG/0/3857",
  "wellKnownScaleSet": "http://www.opengis.net/def/wkss/OGC/1.0/GoogleMapsCompatible",
  "tileMatrices": [
    {
      "id": "0",
      "scaleDenominator": 559082264.0287178,
      "cellSize": 156543.03392804097,
      "cornerOfOrigin": "topLeft",
      "pointOfOrigin": [
        -20037508.342789244,
        20037508.342789244
      ],
      "tileWidth": 256,
      "tileHeight": 256,
      "matrixWidth": 1,
      "matrixHeight": 1
    },
    {
      "id": "1",
      "scaleDenominator": 279541132.0143589,
      "cellSize": 78271.51696402048,
      "cornerOfOrigin": "topLeft",
      "pointOfOrigin": [
        -20037508.342789244,
        20037508.342789244
      ],
      "tileWidth": 256,
      "tileHeight": 256,
      "matrixWidth": 2,
      "matrixHeight": 2
    },
    {
      "id": "2",
      "scaleDenominator": 139770566.00717944,
      "cellSize": 39135.75848201024,
      "cornerOfOrigin": "topLeft",
      "pointOfOrigin": [
        -20037508.342789244,
        20037508.342789244
      ],
      "tileWidth": 256,
      "tileHeight": 256,
      "matrixWidth": 4,
      "matrixHeight": 4
    },
    {
      "id": "3",
      "scaleDenominator": 69885283.00358972,
      "cellSize": 19567.87924100512,
      "cornerOfOrigin": "topLeft",
      "pointOfOrigin": [
        -20037508.342789244,
        20037508.342789244
      ],
      "tileWidth": 256,
      "tileHeight": 256,
      "matrixWidth": 8,
      "matrixHeight": 8
    },
    {
      "id": "4",
      "scaleDenominator": 34942641.50179486,
      "cellSize": 9783.93962050256,
      "cornerOfOrigin": "topLeft",
      "pointOfOrigin": [
        -20037508.342789244,
        20037508.342789244
      ],
      "tileWidth": 256,
      "tileHeight": 256,
      "matrixWidth": 16,
      "matrixHeight": 16
    },
    {
      "id": "5",
      "scaleDenominator": 17471320.75089743,
      "cellSize": 4891.96981025128,
      "cornerOfOrigin": "topLeft",
      "pointOfOrigin": [
        -20037508.342789244,
        20037508.342789244
      ],
      "tileWidth": 256,
      "tileHeight": 256,
      "matrixWidth": 32,
      "matrixHeight": 32
    },
    {
      "id": "6",
      "scaleDenominator": 8735660.375448715,
      "cellSize": 2445.98490512564,
      "cornerOfOrigin": "topLeft",
      "pointOfOrigin": [
        -20037508.342789244,
        20037508.342789244
      ],
      "tileWidth": 256,
      "tileHeight": 256,
      "matrixWidth": 64,
      "matrixHeight": 64
    },
    {
      "id": "7",
      "scaleDenominator": 4367830.1877243575,
      "cellSize": 1222.99245256282,
      "cornerOfOrigin": "topLeft",
      "pointOfOrigin": [
        -20037508.342789244,
        20037508.342789244
      ],
      "tileWidth": 256,
      "tileHeight": 256,
      "matrixWidth": 128,
      "matrixHeight": 128
    },
    {
      "id": "8",
      "scaleDenominator": 2183915.0938621787,
      "cellSize": 611.49622628141,
      "cornerOfOrigin": "topLeft",
      "pointOfOrigin": [
        -20037508.342789244,
        20037508.342789244
      ],
      "tileWidth": 256,
      "tileHeight": 256,
      "matrixWidth": 256,
      "matrixHeight": 256
    },
    {
      "id": "9",
      "scaleDenominator": 1091957.5469310894,
      "cellSize": 305.748113140705,
      "cornerOfOrigin": "topLeft",
      "pointOfOrigin": [
        -20037508.342789244,
        20037508.342789244
      ],
      "tileWidth": 256,
      "tileHeight": 256,
      "matrixWidth": 512,
      "matrixHeight": 512
    },
    {
      "id": "10",
      "scaleDenominator": 545978.7734655447,
      "cellSize": 152.8740565703525,
      "cornerOfOrigin": "topLeft",
      "pointOfOrigin": [
        -20037508.342789244,
        20037508.342789244
      ],
      "tileWidth": 256,
      "tileHeight": 256,
      "matrixWidth": 1024,
      "matrixHeight": 1024
    },
    {
      "id": "11",
      "scaleDenominator": 272989.38673277234,
      "cellSize": 76.43702828517625,
      "cornerOfOrigin": "topLeft",
      "pointOfOrigin": [
        -20037508.342789244,
        20037508.342789244
      ],
      "tileWidth": 256,
      "tileHeight": 256,
      "matrixWidth": 2048,
      "matrixHeight": 2048
    },
    {
      "id": "12",
      "scaleDenominator": 136494.69336638617,
      "cellSize": 38.21851414258813,
      "cornerOfOrigin": "topLeft",
      "pointOfOrigin": [
        -20037508.342789244,
        20037508.342789244
      ],
      "tileWidth": 256,
      "tileHeight": 256,
      "matrixWidth": 4096,
      "matrixHeight": 4096
    },
    {
      "id": "13",
      "scaleDenominator": 68247.34668319309,
      "cellSize": 19.109257071294063,
      "cornerOfOrigin": "topLeft",
      "pointOfOrigin": [
        -20037508.342789244,
        20037508.342789244
      ],
      "tileWidth": 256,
      "tileHeight": 256,
      "matrixWidth": 8192,
      "matrixHeight": 8192
    },
    {
      "id": "14",
      "scaleDenominator": 34123.67334159654,
      "cellSize": 9.554628535647032,
      "cornerOfOrigin": "topLeft",
      "pointOfOrigin": [
        -20037508.342789244,
        20037508.342789244
      ],
      "tileWidth": 256,
      "tileHeight": 256,
      "matrixWidth": 16384,
      "matrixHeight": 16384
    },
    {
      "id": "15",
      "scaleDenominator": 17061.83667079827,
      "cellSize": 4.777314267823516,
      "cornerOfOrigin": "topLeft",
      "pointOfOrigin": [
        -20037508.342789244,
        20037508.342789244
      ],
      "tileWidth": 256,
      "tileHeight": 256,
      "matrixWidth": 32768,
      "matrixHeight": 32768
    },
    {
      "id": "16",
      "scaleDenominator": 8530.918335399136,
      "cellSize": 2.388657133911758,
      "cornerOfOrigin": "topLeft",
      "pointOfOrigin": [
        -20037508.342789244,
        20037508.342789244
      ],
      "tileWidth": 256,
      "tileHeight": 256,
      "matrixWidth": 65536,
      "matrixHeight": 65536
    },
    {
      "id": "17",
      "scaleDenominator": 4265.459167699568,
      "cellSize": 1.194328566955879,
      "cornerOfOrigin": "topLeft",
      "pointOfOrigin": [
        -20037508.342789244,
        20037508.342789244
      ],
      "tileWidth": 256,
      "tileHeight": 256,
      "matrixWidth": 131072,
      "matrixHeight": 131072
    },
    {
      "id": "18",
      "scaleDenominator": 2132.729583849784,
      "cellSize": 0.5971642834779395,
      "cornerOfOrigin": "topLeft",
      "pointOfOrigin": [
        -20037508.342789244,
        20037508.342789244
      ],
      "tileWidth": 256,
      "tileHeight": 256,
      "matrixWidth": 262144,
      "matrixHeight": 262144
    },
    {
      "id": "19",
      "scaleDenominator": 1066.364791924892,
      "cellSize": 0.29858214173896974,
      "cornerOfOrigin": "topLeft",
      "pointOfOrigin": [
        -20037508.342789244,
        20037508.342789244
      ],
      "tileWidth": 256,
      "tileHeight": 256,
      "matrixWidth": 524288,
      "matrixHeight": 524288
    },
    {
      "id": "20",
      "scaleDenominator": 533.182395962446,
      "cellSize": 0.14929107086948487,
      "cornerOfOrigin": "topLeft",
      "pointOfOrigin": [
        -20037508.342789244,
        20037508.342789244
      ],
      "tileWidth": 256,
      "tileHeight": 256,
      "matrixWidth": 1048576,
      "matrixHeight": 1048576
    },
    {
      "id": "21",
      "scaleDenominator": 266.591197981223,
      "cellSize": 0.07464553543474244,
      "cornerOfOrigin": "topLeft",
      "pointOfOrigin": [
        -20037508.342789244,
        20037508.342789244
      ],
      "tileWidth": 256,
      "tileHeight": 256,
      "matrixWidth": 2097152,
      "matrixHeight": 2097152
    },
    {
      "id": "22",
      "scaleDenominator": 133.2955989906115,
      "cellSize": 0.03732276771737122,
      "cornerOfOrigin": "topLeft",
      "pointOfOrigin": [
        -20037508.342789244,
        20037508.342789244
      ],
      "tileWidth": 256,
      "tileHeight": 256,
      "matrixWidth": 4194304,
      "matrixHeight": 4194304
    },
    {
      "id": "23",
      "scaleDenominator": 66.64779949530575,
      "cellSize": 0.01866138385868561,
      "cornerOfOrigin": "topLeft",
      "pointOfOrigin": [
        -20037508.342789244,
        20037508.342789244
      ],
      "tileWidth": 256,
      "tileHeight": 256,
      "matrixWidth": 8388608,
      "matrixHeight": 8388608
    },
    {
      "id": "24",
      "scaleDenominator": 33.323899747652874,
      "cellSize": 0.009330691929342804,
      "cornerOfOrigin": "topLeft",
      "pointOfOrigin": [
        -20037508.342789244,
        20037508.342789244
      ],
      "tileWidth": 256,
      "tileHeight": 256,
      "matrixWidth": 16777216,
      "matrixHeight": 16777216
    }
  ]
}
