{
  "title": "LINZ Antarctic Map Tile Grid (Ross Sea Region)",
  "id": "LINZAntarticaMapTilegrid",
  "orderedAxes": [
    "Y",
    "X"
  ],
  "crs": "urn:ogc:def:crs:EPSG::5482",
  "tileMatrices": [
    {
      "id": "0",
      "scaleDenominator": 409600000.0,
      "cellSize": 114687.99999999999,
      "cornerOfOrigin": "topLeft",
      "pointOfOrigin": [
        6918457.73,
        -918457.73
      ],
      "tileWidth": 256,
      "tileHeight": 256,
      "matrixWidth": 1,
      "matrixHeight": 1
    },
    {
      "id": "1",
      "scaleDenominator": 204800000.0,
      "cellSize": 57343.99999999999,
      "cornerOfOrigin": "topLeft",
      "pointOfOrigin": [
        6918457.73,
        -918457.73
      ],
      "tileWidth": 256,
      "tileHeight": 256,
      "matrixWidth": 1,
      "matrixHeight": 1
    },
    {
      "id": "2",
      "scaleDenominator": 102400000.0,
      "cellSize": 28671.999999999996,
      "cornerOfOrigin": "topLeft",
      "pointOfOrigin": [
        6918457.73,
        -918457.73
      ],
      "tileWidth": 256,
      "tileHeight": 256,
      "matrixWidth": 2,
      "matrixHeight": 2
    },
    {
      "id": "3",
      "scaleDenominator": 51200000.0,
      "cellSize": 14335.999999999998,
      "cornerOfOrigin": "topLeft",
      "pointOfOrigin": [
        6918457.73,
        -918457.73
      ],
      "tileWidth": 256,
      "tileHeight": 256,
      "matrixWidth": 4,
      "matrixHeight": 4
    },
    {
      "id": "4",
      "scaleDenominator": 25600000.0,
      "cellSize": 7167.999999999999,
      "cornerOfOrigin": "topLeft",
      "pointOfOrigin": [
        6918457.73,
        -918457.73
      ],
      "tileWidth": 256,
      "tileHeight": 256,
      "matrixWidth": 7,
      "matrixHeight": 7
    },
    {
      "id": "5",
      "scaleDenominator": 12800000.0,
      "cellSize": 3583.9999999999995,
      "cornerOfOrigin": "topLeft",
      "pointOfOrigin": [
        6918457.73,
        -918457.73
      ],
      "tileWidth": 256,
      "tileHeight": 256,
      "matrixWidth": 13,
      "matrixHeight": 13
    },
    {
      "id": "6",
      "scaleDenominator": 6400000.0,
      "cellSize": 1791.9999999999998,
      "cornerOfOrigin": "topLeft",
      "pointOfOrigin": [
        6918457.73,
        -918457.73
      ],
      "tileWidth": 256,
      "tileHeight": 256,
      "matrixWidth": 26,
      "matrixHeight": 26
    },
    {
      "id": "7",
      "scaleDenominator": 3200000.0,
      "cellSize": 895.9999999999999,
      "cornerOfOrigin": "topLeft",
      "pointOfOrigin": [
        6918457.73,
        -918457.73
      ],
      "tileWidth": 256,
      "tileHeight": 256,
      "matrixWidth": 52,
      "matrixHeight": 52
    },
    {
      "id": "8",
      "scaleDenominator": 1600000.0,
      "cellSize": 447.99999999999994,
      "cornerOfOrigin": "topLeft",
      "pointOfOrigin": [
        6918457.73,
        -918457.73
      ],
      "tileWidth": 256,
      "tileHeight": 256,
      "matrixWidth": 104,
      "matrixHeight": 104
    },
    {
      "id": "9",
      "scaleDenominator": 800000.0,
      "cellSize": 223.99999999999997,
      "cornerOfOrigin": "topLeft",
      "pointOfOrigin": [
        6918457.73,
        -918457.73
      ],
      "tileWidth": 256,
      "tileHeight": 256,
      "matrixWidth": 207,
      "matrixHeight": 207
    },
    {
      "id": "10",
      "scaleDenominator": 400000.0,
      "cellSize": 111.99999999999999,
      "cornerOfOrigin": "topLeft",
      "pointOfOrigin": [
        6918457.73,
        -918457.73
      ],
      "tileWidth": 256,
      "tileHeight": 256,
      "matrixWidth": 413,
      "matrixHeight": 413
    },
    {
      "id": "11",
      "scaleDenominator": 200000.0,
      "cellSize": 55.99999999999999,
      "cornerOfOrigin": "topLeft",
      "pointOfOrigin": [
        6918457.73,
        -918457.73
      ],
      "tileWidth": 256,
      "tileHeight": 256,
      "matrixWidth": 826,
      "matrixHeight": 826
    },
    {
      "id": "12",
      "scaleDenominator": 100000.0,
      "cellSize": 27.999999999999996,
      "cornerOfOrigin": "topLeft",
      "pointOfOrigin": [
        6918457.73,
        -918457.73
      ],
      "tileWidth": 256,
      "tileHeight": 256,
      "matrixWidth": 1652,
      "matrixHeight": 1652
    },
    {
      "id": "13",
      "scaleDenominator": 50000.0,
      "cellSize": 13.999999999999998,
      "cornerOfOrigin": "topLeft",
      "pointOfOrigin": [
        6918457.73,
        -918457.73
      ],
      "tileWidth": 256,
      "tileHeight": 256,
      "matrixWidth": 3303,
      "matrixHeight": 3303
    }
  ]
}
